BEGIN:VCALENDAR
VERSION:2.0
PRODID:-//SV Holm-Seppensen e.V. - ECPv6.15.20//NONSGML v1.0//EN
CALSCALE:GREGORIAN
METHOD:PUBLISH
X-ORIGINAL-URL:https://www.sv-holm-seppensen.de
X-WR-CALDESC:Veranstaltungen für SV Holm-Seppensen e.V.
REFRESH-INTERVAL;VALUE=DURATION:PT1H
X-Robots-Tag:noindex
X-PUBLISHED-TTL:PT1H
BEGIN:VTIMEZONE
TZID:Europe/Berlin
BEGIN:DAYLIGHT
TZOFFSETFROM:+0100
TZOFFSETTO:+0200
TZNAME:CEST
DTSTART:20250330T010000
END:DAYLIGHT
BEGIN:STANDARD
TZOFFSETFROM:+0200
TZOFFSETTO:+0100
TZNAME:CET
DTSTART:20251026T010000
END:STANDARD
BEGIN:DAYLIGHT
TZOFFSETFROM:+0100
TZOFFSETTO:+0200
TZNAME:CEST
DTSTART:20260329T010000
END:DAYLIGHT
BEGIN:STANDARD
TZOFFSETFROM:+0200
TZOFFSETTO:+0100
TZNAME:CET
DTSTART:20261025T010000
END:STANDARD
BEGIN:DAYLIGHT
TZOFFSETFROM:+0100
TZOFFSETTO:+0200
TZNAME:CEST
DTSTART:20270328T010000
END:DAYLIGHT
BEGIN:STANDARD
TZOFFSETFROM:+0200
TZOFFSETTO:+0100
TZNAME:CET
DTSTART:20271031T010000
END:STANDARD
END:VTIMEZONE
BEGIN:VEVENT
DTSTART;TZID=Europe/Berlin:20260424T200000
DTEND;TZID=Europe/Berlin:20260424T200000
DTSTAMP:20260421T140754
CREATED:20260302T104816Z
LAST-MODIFIED:20260302T104816Z
UID:9789-1777060800-1777060800@www.sv-holm-seppensen.de
SUMMARY:Heimspiel - unsere Herren vs. SG Elbdeich II
DESCRIPTION:[vc_row css=".vc_custom_1737573118350{background-position: center !important;background-repeat: no-repeat !important;background-size: contain !important;}"][vc_column css=".vc_custom_1737576218104{border-radius: 5px !important;}"][vc_column_text css=".vc_custom_1737582916828{margin-right: 20px !important;margin-left: 20px !important;background-position: center !important;background-repeat: no-repeat !important;background-size: contain !important;}"]Heimspiel der 1. Herren des SV Holm-Seppensen gegen SG Elbdeich II \nWillkommen zum nächsten Heimspiel des herzlichsten Dorfvereins der Region – dem SV Holm-Seppensen! \nUnsere 1. Herrenmannschaft spielt in der dritten Kreisklasse Harburg und hat große Pläne: den nächsten Aufstieg schaffen. \nHerrliche Dorfatmosphäre und eine gute Stimmung. Für das leibliche Wohl ist gesorgt: Zum Spiel gibt es die Klassiker: Bratwurst und Bier. \nSeien Sie dabei und feuern Sie unser Team an\, wenn wir wieder einmal alles geben. Bei uns fühlt man sich wohl und ist mitten im Geschehen. Unterstützen Sie unsere 1. Herrenmannschaft des SV Holm-Seppensen bei ihrem nächsten Heimspiel![/vc_column_text][/vc_column][/vc_row][vc_row][vc_column width="1/2"] 1. Herren [/vc_column][vc_column width="1/2"] Fussball.de [/vc_column][/vc_row]
URL:https://www.sv-holm-seppensen.de/event/heimspiel-unsere-herren-vs-sg-elbdeich-ii/
LOCATION:Sportplatz am Tostedter Weg\, Tostedter Weg 1\, Holm-Seppensen\, Niedersachsen\, 21244\, Deutschland
CATEGORIES:Fussball
ATTACH;FMTTYPE=image/jpeg:https://www.sv-holm-seppensen.de/wp-content/uploads/2024/08/DSC02671.jpg
END:VEVENT
BEGIN:VEVENT
DTSTART;TZID=Europe/Berlin:20260430T200000
DTEND;TZID=Europe/Berlin:20260430T200000
DTSTAMP:20260421T140754
CREATED:20260302T104921Z
LAST-MODIFIED:20260302T104921Z
UID:9791-1777579200-1777579200@www.sv-holm-seppensen.de
SUMMARY:Heimspiel - unsere Herren vs. Eintr. Elbmarsch IV
DESCRIPTION:[vc_row css=".vc_custom_1737573118350{background-position: center !important;background-repeat: no-repeat !important;background-size: contain !important;}"][vc_column css=".vc_custom_1737576218104{border-radius: 5px !important;}"][vc_column_text css=".vc_custom_1737582916828{margin-right: 20px !important;margin-left: 20px !important;background-position: center !important;background-repeat: no-repeat !important;background-size: contain !important;}"]Heimspiel der 1. Herren des SV Holm-Seppensen gegen Eintracht Elbmarsch IV \nWillkommen zum nächsten Heimspiel des herzlichsten Dorfvereins der Region – dem SV Holm-Seppensen! \nUnsere 1. Herrenmannschaft spielt in der dritten Kreisklasse Harburg und hat große Pläne: den nächsten Aufstieg schaffen. \nHerrliche Dorfatmosphäre und eine gute Stimmung. Für das leibliche Wohl ist gesorgt: Zum Spiel gibt es die Klassiker: Bratwurst und Bier. \nSeien Sie dabei und feuern Sie unser Team an\, wenn wir wieder einmal alles geben. Bei uns fühlt man sich wohl und ist mitten im Geschehen. Unterstützen Sie unsere 1. Herrenmannschaft des SV Holm-Seppensen bei ihrem nächsten Heimspiel![/vc_column_text][/vc_column][/vc_row][vc_row][vc_column width="1/2"] 1. Herren [/vc_column][vc_column width="1/2"] Fussball.de [/vc_column][/vc_row]
URL:https://www.sv-holm-seppensen.de/event/heimspiel-unsere-herren-vs-eintr-elbmarsch-iv/
LOCATION:Sportplatz am Tostedter Weg\, Tostedter Weg 1\, Holm-Seppensen\, Niedersachsen\, 21244\, Deutschland
CATEGORIES:Fussball
ATTACH;FMTTYPE=image/jpeg:https://www.sv-holm-seppensen.de/wp-content/uploads/2024/08/DSC02671.jpg
END:VEVENT
BEGIN:VEVENT
DTSTART;TZID=Europe/Berlin:20260515T200000
DTEND;TZID=Europe/Berlin:20260515T200000
DTSTAMP:20260421T140754
CREATED:20260302T105023Z
LAST-MODIFIED:20260302T105023Z
UID:9793-1778875200-1778875200@www.sv-holm-seppensen.de
SUMMARY:Heimspiel - unsere Herren vs. FC Roddau II
DESCRIPTION:[vc_row css=".vc_custom_1737573118350{background-position: center !important;background-repeat: no-repeat !important;background-size: contain !important;}"][vc_column css=".vc_custom_1737576218104{border-radius: 5px !important;}"][vc_column_text css=".vc_custom_1737582916828{margin-right: 20px !important;margin-left: 20px !important;background-position: center !important;background-repeat: no-repeat !important;background-size: contain !important;}"]Heimspiel der 1. Herren des SV Holm-Seppensen gegen FC Roddau II \nWillkommen zum nächsten Heimspiel des herzlichsten Dorfvereins der Region – dem SV Holm-Seppensen! \nUnsere 1. Herrenmannschaft spielt in der dritten Kreisklasse Harburg und hat große Pläne: den nächsten Aufstieg schaffen. \nHerrliche Dorfatmosphäre und eine gute Stimmung. Für das leibliche Wohl ist gesorgt: Zum Spiel gibt es die Klassiker: Bratwurst und Bier. \nSeien Sie dabei und feuern Sie unser Team an\, wenn wir wieder einmal alles geben. Bei uns fühlt man sich wohl und ist mitten im Geschehen. Unterstützen Sie unsere 1. Herrenmannschaft des SV Holm-Seppensen bei ihrem nächsten Heimspiel![/vc_column_text][/vc_column][/vc_row][vc_row][vc_column width="1/2"] 1. Herren [/vc_column][vc_column width="1/2"] Fussball.de [/vc_column][/vc_row]
URL:https://www.sv-holm-seppensen.de/event/heimspiel-unsere-herren-vs-fc-roddau-ii/
LOCATION:Sportplatz am Tostedter Weg\, Tostedter Weg 1\, Holm-Seppensen\, Niedersachsen\, 21244\, Deutschland
CATEGORIES:Fussball
ATTACH;FMTTYPE=image/jpeg:https://www.sv-holm-seppensen.de/wp-content/uploads/2024/08/DSC02671.jpg
END:VEVENT
BEGIN:VEVENT
DTSTART;TZID=Europe/Berlin:20260520T200000
DTEND;TZID=Europe/Berlin:20260520T200000
DTSTAMP:20260421T140754
CREATED:20260302T105131Z
LAST-MODIFIED:20260302T110926Z
UID:9795-1779307200-1779307200@www.sv-holm-seppensen.de
SUMMARY:Heimspiel - unsere Herren vs. TSV Auetal II
DESCRIPTION:[vc_row css=".vc_custom_1737573118350{background-position: center !important;background-repeat: no-repeat !important;background-size: contain !important;}"][vc_column css=".vc_custom_1737576218104{border-radius: 5px !important;}"][vc_column_text css=".vc_custom_1737582916828{margin-right: 20px !important;margin-left: 20px !important;background-position: center !important;background-repeat: no-repeat !important;background-size: contain !important;}"]Heimspiel der 1. Herren des SV Holm-Seppensen gegen TSV Auetal II \nWillkommen zum nächsten Heimspiel des herzlichsten Dorfvereins der Region – dem SV Holm-Seppensen! \nUnsere 1. Herrenmannschaft spielt in der dritten Kreisklasse Harburg und hat große Pläne: den nächsten Aufstieg schaffen. \nHerrliche Dorfatmosphäre und eine gute Stimmung. Für das leibliche Wohl ist gesorgt: Zum Spiel gibt es die Klassiker: Bratwurst und Bier. \nSeien Sie dabei und feuern Sie unser Team an\, wenn wir wieder einmal alles geben. Bei uns fühlt man sich wohl und ist mitten im Geschehen. Unterstützen Sie unsere 1. Herrenmannschaft des SV Holm-Seppensen bei ihrem nächsten Heimspiel![/vc_column_text][/vc_column][/vc_row][vc_row][vc_column width="1/2"] 1. Herren [/vc_column][vc_column width="1/2"] Fussball.de [/vc_column][/vc_row]
URL:https://www.sv-holm-seppensen.de/event/heimspiel-unsere-herren-vs-tsv-auetal-ii/
LOCATION:Sportplatz am Tostedter Weg\, Tostedter Weg 1\, Holm-Seppensen\, Niedersachsen\, 21244\, Deutschland
CATEGORIES:Fussball
ATTACH;FMTTYPE=image/jpeg:https://www.sv-holm-seppensen.de/wp-content/uploads/2024/08/DSC02671.jpg
END:VEVENT
BEGIN:VEVENT
DTSTART;VALUE=DATE:20260727
DTEND;VALUE=DATE:20260801
DTSTAMP:20260421T140754
CREATED:20260216T172902Z
LAST-MODIFIED:20260216T172902Z
UID:9730-1785110400-1785542399@www.sv-holm-seppensen.de
SUMMARY:2. Rabauken Fußballcamp
DESCRIPTION:[vc_row css=".vc_custom_1737573118350{background-position: center !important;background-repeat: no-repeat !important;background-size: contain !important;}"][vc_column width="1/2" css=".vc_custom_1737576218104{border-radius: 5px !important;}"][vc_column_text css=".vc_custom_1737583406782{margin-right: 20px !important;margin-left: 20px !important;background-position: center !important;background-repeat: no-repeat !important;background-size: contain !important;}"]Das Rabauken Feldspieler-Camp beim SV Holm-Seppensen! \nSei' dabei und mach' mit! \nDie Einheiten der Fußballschule sind nach den neuesten Erkenntnissen der Trainingsmethoden unseres Nachwuchsleistungszentrums konzipiert um durch Freude und Leidenschaft Bewegungsabläufe zu automatisieren und anspruchsvolle Trainingseinheiten zu gewährleisten. \nUnter anderem erwartet Dich in unserem Camp: \n• tägliches Training von 9:30 Uhr bis 16 Uhr\n• Trainingsschwerpunkte: Spielformen\, Technik A (Dribbeln und Fintieren)\, Torschuss\, Technik B (Passspiel und 1. Kontakt)\, Koordination\n• Kleingruppen durch einen individuell angepassten Trainer*innenschlüssel\n• Original DIIY-Trikotset der Rabauken (Trikot\, Hose\, Stutzen) mit Wunschdruck (Name und Nummer)\n• Aluminium-Trinkflasche und ein warmes Mittagessen\n• Turnbeutel\, Medaille\, Urkunde und kleine Giveaways\n• Training in altersgerechten Kleingruppen\n• Altersklasse: 6 bis 13 Jahre\n• 20 Prozent-Rabattgutschein für den FC St. Pauli-Onlineshop\n• 25 Prozent-Rabattgutschein für den Derbystar-Onlineshop \nDie An- und Abreise zum Camp erfolgt eigenverantwortlich durch die Teilnehmer*innen bzw. deren Eltern. Unser Trainer*innenteam wartet ab 09:15 Uhr auf die Kids.[/vc_column_text][/vc_column][vc_column width="1/2"][vc_cta h2="Sei dabei beim zweiten Fußballcamp des SV Holm-Seppensen!" h4="6-13 Jahre" add_button="bottom" btn_title="Anmeldung" btn_color="green" btn_align="center" css="" btn_button_block="true" btn_link="url:https%3A%2F%2Ffussballschule.fcstpauli.com%2Fde%2Fportal%2Fevents%2F8508-sv-holm-seppensen-e-v%3Fview_type%3Dlist|title:Anmeldung"]Für alle jungen Fußballtalente und -begeisterten: Der SV Holm-Seppensen veranstaltet zum zweiten Mal ein aufregendes Fußballcamp! Dies ist deine Gelegenheit\, Teil unserer Fußballfamilie zu werden\, neue Freunde zu finden und deine Fähigkeiten zu verbessern. \nWichtiger Hinweis: Die Teilnehmerplätze sind begrenzt – sicher dir jetzt deinen Platz! \nErlebe ein unvergessliches Trainingserlebnis\, das speziell nach den neuesten Methoden vom FC St. Pauli Nachwuchsleistungszentrums konzipiert wurde. Warte nicht zu lange – melde dich jetzt an und sei dabei![/vc_cta][vc_video link="https://www.youtube.com/watch?v=7jZbFZhreA8" css="" title="Rabauken Fußballschule"][/vc_column][/vc_row]
URL:https://www.sv-holm-seppensen.de/event/2-rabauken-fussballcamp/
LOCATION:Sportplatz am Tostedter Weg\, Tostedter Weg 1\, Holm-Seppensen\, Niedersachsen\, 21244\, Deutschland
CATEGORIES:Fußballcamp
ATTACH;FMTTYPE=image/jpeg:https://www.sv-holm-seppensen.de/wp-content/uploads/2026/02/regular_Feldspielercamp_banner_400x200.jpg
END:VEVENT
END:VCALENDAR